BEGIN:VCALENDAR
VERSION:2.0
PRODID:-//Dokumentationszentrum GLANZSTOFF - ECPv6.3.5//NONSGML v1.0//EN
CALSCALE:GREGORIAN
METHOD:PUBLISH
X-WR-CALNAME:Dokumentationszentrum GLANZSTOFF
X-ORIGINAL-URL:https://glanzstoff-doku.de
X-WR-CALDESC:Veranstaltungen für Dokumentationszentrum GLANZSTOFF
REFRESH-INTERVAL;VALUE=DURATION:PT1H
X-Robots-Tag:noindex
X-PUBLISHED-TTL:PT1H
BEGIN:VTIMEZONE
TZID:Europe/Berlin
BEGIN:DAYLIGHT
TZOFFSETFROM:+0100
TZOFFSETTO:+0200
TZNAME:CEST
DTSTART:20240331T010000
END:DAYLIGHT
BEGIN:STANDARD
TZOFFSETFROM:+0200
TZOFFSETTO:+0100
TZNAME:CET
DTSTART:20241027T010000
END:STANDARD
END:VTIMEZONE
BEGIN:VEVENT
DTSTART;TZID=Europe/Berlin:20240816T170000
DTEND;TZID=Europe/Berlin:20240816T190000
DTSTAMP:20260425T152925
CREATED:20240707T150957Z
LAST-MODIFIED:20240707T150957Z
UID:10000068-1723827600-1723834800@glanzstoff-doku.de
SUMMARY:Angemeldete Gruppenführung
DESCRIPTION:Freundeskreis Aachener Zeitung (3)
URL:https://glanzstoff-doku.de/event/angemeldete-gruppenfuehrung-28/
LOCATION:Dokumentationszentrum Glanzstoff\, Boos-Fremery-Straße 62\, Tor 1\, Heinsberg\, Nordrhein-Westfalen\, 52525\, Deutschland
ORGANIZER;CN="Dokumentationszentrum Glanzstoff":MAILTO:info@glanzstoff-doku.de
END:VEVENT
END:VCALENDAR