BEGIN:VCALENDAR
VERSION:2.0
PRODID:-//Dokumentationszentrum GLANZSTOFF - ECPv6.3.5//NONSGML v1.0//EN
CALSCALE:GREGORIAN
METHOD:PUBLISH
X-ORIGINAL-URL:https://glanzstoff-doku.de
X-WR-CALDESC:Veranstaltungen für Dokumentationszentrum GLANZSTOFF
REFRESH-INTERVAL;VALUE=DURATION:PT1H
X-Robots-Tag:noindex
X-PUBLISHED-TTL:PT1H
BEGIN:VTIMEZONE
TZID:Europe/Berlin
BEGIN:DAYLIGHT
TZOFFSETFROM:+0100
TZOFFSETTO:+0200
TZNAME:CEST
DTSTART:20250330T010000
END:DAYLIGHT
BEGIN:STANDARD
TZOFFSETFROM:+0200
TZOFFSETTO:+0100
TZNAME:CET
DTSTART:20251026T010000
END:STANDARD
END:VTIMEZONE
BEGIN:VEVENT
DTSTART;VALUE=DATE:20250906
DTEND;VALUE=DATE:20250907
DTSTAMP:20260424T121458
CREATED:20250121T180234Z
LAST-MODIFIED:20250311T153006Z
UID:10000083-1757116800-1757203199@glanzstoff-doku.de
SUMMARY:Sonderveranstaltung 125 Jahre Glanzstoff Oberbruch
DESCRIPTION:Wegen einer standortinternen Veranstaltung\, bleibt das Dokumentationszentrum an diesem Tag für Besucher geschlossen.
URL:https://glanzstoff-doku.de/event/sonderveranstaltung-geplant/
LOCATION:Dokumentationszentrum Glanzstoff\, Boos-Fremery-Straße 62\, Tor 1\, Heinsberg\, Nordrhein-Westfalen\, 52525\, Deutschland
ORGANIZER;CN="Dokumentationszentrum Glanzstoff":MAILTO:info@glanzstoff-doku.de
END:VEVENT
BEGIN:VEVENT
DTSTART;TZID=Europe/Berlin:20250911T140000
DTEND;TZID=Europe/Berlin:20250911T170000
DTSTAMP:20260424T121458
CREATED:20250512T161947Z
LAST-MODIFIED:20250512T161947Z
UID:10000098-1757599200-1757610000@glanzstoff-doku.de
SUMMARY:Angemeldete Gruppenführung
DESCRIPTION:Frauengruppe Posrselen
URL:https://glanzstoff-doku.de/event/angemeldete-gruppenfuehrung-34/
LOCATION:Dokumentationszentrum Glanzstoff\, Boos-Fremery-Straße 62\, Tor 1\, Heinsberg\, Nordrhein-Westfalen\, 52525\, Deutschland
ORGANIZER;CN="Dokumentationszentrum Glanzstoff":MAILTO:info@glanzstoff-doku.de
END:VEVENT
BEGIN:VEVENT
DTSTART;TZID=Europe/Berlin:20250919T180000
DTEND;TZID=Europe/Berlin:20250919T200000
DTSTAMP:20260424T121458
CREATED:20250210T151906Z
LAST-MODIFIED:20250210T151906Z
UID:10000088-1758304800-1758312000@glanzstoff-doku.de
SUMMARY:Angemeldete Gruppenführung
DESCRIPTION:Firmenevent
URL:https://glanzstoff-doku.de/event/angemeldete-gruppenfuehrung-20/
LOCATION:Dokumentationszentrum Glanzstoff\, Boos-Fremery-Straße 62\, Tor 1\, Heinsberg\, Nordrhein-Westfalen\, 52525\, Deutschland
ORGANIZER;CN="Dokumentationszentrum Glanzstoff":MAILTO:info@glanzstoff-doku.de
END:VEVENT
BEGIN:VEVENT
DTSTART;TZID=Europe/Berlin:20250921T150000
DTEND;TZID=Europe/Berlin:20250921T170000
DTSTAMP:20260424T121458
CREATED:20250703T191112Z
LAST-MODIFIED:20250703T191153Z
UID:10000101-1758466800-1758474000@glanzstoff-doku.de
SUMMARY:Angemeldete Gruppenführung
DESCRIPTION:Frauengruppe Erpen
URL:https://glanzstoff-doku.de/event/angemeldete-fuehrung-10/
LOCATION:Dokumentationszentrum Glanzstoff\, Boos-Fremery-Straße 62\, Tor 1\, Heinsberg\, Nordrhein-Westfalen\, 52525\, Deutschland
ORGANIZER;CN="Dokumentationszentrum Glanzstoff":MAILTO:info@glanzstoff-doku.de
END:VEVENT
END:VCALENDAR