BEGIN:VCALENDAR
VERSION:2.0
PRODID:-//Dokumentationszentrum GLANZSTOFF - ECPv6.3.5//NONSGML v1.0//EN
CALSCALE:GREGORIAN
METHOD:PUBLISH
X-ORIGINAL-URL:https://glanzstoff-doku.de
X-WR-CALDESC:Veranstaltungen für Dokumentationszentrum GLANZSTOFF
REFRESH-INTERVAL;VALUE=DURATION:PT1H
X-Robots-Tag:noindex
X-PUBLISHED-TTL:PT1H
BEGIN:VTIMEZONE
TZID:Europe/Berlin
BEGIN:DAYLIGHT
TZOFFSETFROM:+0100
TZOFFSETTO:+0200
TZNAME:CEST
DTSTART:20260329T010000
END:DAYLIGHT
BEGIN:STANDARD
TZOFFSETFROM:+0200
TZOFFSETTO:+0100
TZNAME:CET
DTSTART:20261025T010000
END:STANDARD
END:VTIMEZONE
BEGIN:VEVENT
DTSTART;TZID=Europe/Berlin:20260423T170000
DTEND;TZID=Europe/Berlin:20260423T190000
DTSTAMP:20260423T114706
CREATED:20251118T181944Z
LAST-MODIFIED:20260210T175900Z
UID:10000103-1776963600-1776970800@glanzstoff-doku.de
SUMMARY:Angemeldete Gruppenführung
DESCRIPTION:Landfrauen Region Heinsberg
URL:https://glanzstoff-doku.de/event/angemeldete-gruppenfuehrung-36/
LOCATION:Dokumentationszentrum Glanzstoff\, Boos-Fremery-Straße 62\, Tor 1\, Heinsberg\, Nordrhein-Westfalen\, 52525\, Deutschland
ORGANIZER;CN="Dokumentationszentrum Glanzstoff":MAILTO:info@glanzstoff-doku.de
END:VEVENT
BEGIN:VEVENT
DTSTART;TZID=Europe/Berlin:20260506T150000
DTEND;TZID=Europe/Berlin:20260506T170000
DTSTAMP:20260423T114706
CREATED:20260323T200038Z
LAST-MODIFIED:20260323T200038Z
UID:10000115-1778079600-1778086800@glanzstoff-doku.de
SUMMARY:Angemeldete Gruppenführung
DESCRIPTION:Verband Bildung und Erziehung
URL:https://glanzstoff-doku.de/event/angemeldete-gruppenfuehrung-46/
LOCATION:Dokumentationszentrum Glanzstoff\, Boos-Fremery-Straße 62\, Tor 1\, Heinsberg\, Nordrhein-Westfalen\, 52525\, Deutschland
ORGANIZER;CN="Dokumentationszentrum Glanzstoff":MAILTO:info@glanzstoff-doku.de
END:VEVENT
BEGIN:VEVENT
DTSTART;TZID=Europe/Berlin:20260517T110000
DTEND;TZID=Europe/Berlin:20260517T170000
DTSTAMP:20260423T114706
CREATED:20260129T200826Z
LAST-MODIFIED:20260129T200826Z
UID:10000111-1779015600-1779037200@glanzstoff-doku.de
SUMMARY:Internationaler Museumstag
DESCRIPTION:Programm folgt.
URL:https://glanzstoff-doku.de/event/internationaler-museumstag-2/
LOCATION:Dokumentationszentrum Glanzstoff\, Boos-Fremery-Straße 62\, Tor 1\, Heinsberg\, Nordrhein-Westfalen\, 52525\, Deutschland
ORGANIZER;CN="Dokumentationszentrum Glanzstoff":MAILTO:info@glanzstoff-doku.de
END:VEVENT
BEGIN:VEVENT
DTSTART;TZID=Europe/Berlin:20260714T090000
DTEND;TZID=Europe/Berlin:20260714T130000
DTSTAMP:20260423T114706
CREATED:20260416T102038Z
LAST-MODIFIED:20260416T102038Z
UID:10000117-1784019600-1784034000@glanzstoff-doku.de
SUMMARY:Angemeldete Gruppenführung
DESCRIPTION:Gesamtschule Heinsberg
URL:https://glanzstoff-doku.de/event/angemeldete-gruppenfuehrung-48/
LOCATION:Dokumentationszentrum Glanzstoff\, Boos-Fremery-Straße 62\, Tor 1\, Heinsberg\, Nordrhein-Westfalen\, 52525\, Deutschland
ORGANIZER;CN="Dokumentationszentrum Glanzstoff":MAILTO:info@glanzstoff-doku.de
END:VEVENT
BEGIN:VEVENT
DTSTART;TZID=Europe/Berlin:20260902T100000
DTEND;TZID=Europe/Berlin:20260902T120000
DTSTAMP:20260423T114706
CREATED:20260115T110633Z
LAST-MODIFIED:20260115T110633Z
UID:10000109-1788343200-1788350400@glanzstoff-doku.de
SUMMARY:Angemeldete Gruppenführung
DESCRIPTION:Gruppe Düsseldorf
URL:https://glanzstoff-doku.de/event/angemeldete-gruppenfuehrung-42/
LOCATION:Dokumentationszentrum Glanzstoff\, Boos-Fremery-Straße 62\, Tor 1\, Heinsberg\, Nordrhein-Westfalen\, 52525\, Deutschland
ORGANIZER;CN="Dokumentationszentrum Glanzstoff":MAILTO:info@glanzstoff-doku.de
END:VEVENT
BEGIN:VEVENT
DTSTART;TZID=Europe/Berlin:20260925T130000
DTEND;TZID=Europe/Berlin:20260925T160000
DTSTAMP:20260423T114706
CREATED:20260210T171209Z
LAST-MODIFIED:20260323T200510Z
UID:10000113-1790341200-1790352000@glanzstoff-doku.de
SUMMARY:Angemeldete Gruppenführung
DESCRIPTION:Frauengruppe Linnich
URL:https://glanzstoff-doku.de/event/angemeldete-gruppenfuehrung-44/
LOCATION:Dokumentationszentrum Glanzstoff\, Boos-Fremery-Straße 62\, Tor 1\, Heinsberg\, Nordrhein-Westfalen\, 52525\, Deutschland
ORGANIZER;CN="Dokumentationszentrum Glanzstoff":MAILTO:info@glanzstoff-doku.de
END:VEVENT
END:VCALENDAR