BEGIN:VCALENDAR
VERSION:2.0
PRODID:-//Dokumentationszentrum GLANZSTOFF - ECPv6.3.5//NONSGML v1.0//EN
CALSCALE:GREGORIAN
METHOD:PUBLISH
X-WR-CALNAME:Dokumentationszentrum GLANZSTOFF
X-ORIGINAL-URL:https://glanzstoff-doku.de
X-WR-CALDESC:Veranstaltungen für Dokumentationszentrum GLANZSTOFF
REFRESH-INTERVAL;VALUE=DURATION:PT1H
X-Robots-Tag:noindex
X-PUBLISHED-TTL:PT1H
BEGIN:VTIMEZONE
TZID:Europe/Berlin
BEGIN:DAYLIGHT
TZOFFSETFROM:+0100
TZOFFSETTO:+0200
TZNAME:CEST
DTSTART:20230326T010000
END:DAYLIGHT
BEGIN:STANDARD
TZOFFSETFROM:+0200
TZOFFSETTO:+0100
TZNAME:CET
DTSTART:20231029T010000
END:STANDARD
BEGIN:DAYLIGHT
TZOFFSETFROM:+0100
TZOFFSETTO:+0200
TZNAME:CEST
DTSTART:20240331T010000
END:DAYLIGHT
BEGIN:STANDARD
TZOFFSETFROM:+0200
TZOFFSETTO:+0100
TZNAME:CET
DTSTART:20241027T010000
END:STANDARD
BEGIN:DAYLIGHT
TZOFFSETFROM:+0100
TZOFFSETTO:+0200
TZNAME:CEST
DTSTART:20250330T010000
END:DAYLIGHT
BEGIN:STANDARD
TZOFFSETFROM:+0200
TZOFFSETTO:+0100
TZNAME:CET
DTSTART:20251026T010000
END:STANDARD
END:VTIMEZONE
BEGIN:VEVENT
DTSTART;TZID=Europe/Berlin:20250416T140000
DTEND;TZID=Europe/Berlin:20250416T163000
DTSTAMP:20260423T165356
CREATED:20250419T185907Z
LAST-MODIFIED:20250419T185907Z
UID:10000096-1744812000-1744821000@glanzstoff-doku.de
SUMMARY:Angemeldete Gruppenführung
DESCRIPTION:Mein Werk\, Industriepark Oberbruch
URL:https://glanzstoff-doku.de/event/angemeldete-gruppenfuehrung-25/
LOCATION:Dokumentationszentrum Glanzstoff\, Boos-Fremery-Straße 62\, Tor 1\, Heinsberg\, Nordrhein-Westfalen\, 52525\, Deutschland
ORGANIZER;CN="Dokumentationszentrum Glanzstoff":MAILTO:info@glanzstoff-doku.de
END:VEVENT
BEGIN:VEVENT
DTSTART;TZID=Europe/Berlin:20250403T140000
DTEND;TZID=Europe/Berlin:20250403T150000
DTSTAMP:20260423T165356
CREATED:20250419T185748Z
LAST-MODIFIED:20250420T181928Z
UID:10000095-1743688800-1743692400@glanzstoff-doku.de
SUMMARY:Angemeldete Gruppenführung
DESCRIPTION:Gesamtschule Heinsberg-Oberbruch
URL:https://glanzstoff-doku.de/event/angemeldete-gruppenfuehrung-23/
LOCATION:Dokumentationszentrum Glanzstoff\, Boos-Fremery-Straße 62\, Tor 1\, Heinsberg\, Nordrhein-Westfalen\, 52525\, Deutschland
ORGANIZER;CN="Dokumentationszentrum Glanzstoff":MAILTO:info@glanzstoff-doku.de
END:VEVENT
BEGIN:VEVENT
DTSTART;VALUE=DATE:20250227
DTEND;VALUE=DATE:20250306
DTSTAMP:20260423T165356
CREATED:20250203T163255Z
LAST-MODIFIED:20250203T163255Z
UID:10000086-1740614400-1741219199@glanzstoff-doku.de
SUMMARY:Geschlossen
DESCRIPTION:Das Dokumentationszentrum Glanzstoff bleibt über die Karnevalstag geschlossen. Wir wünschen allen Karnevalisten viel Spaß.
URL:https://glanzstoff-doku.de/event/geschlossen-6/
LOCATION:Dokumentationszentrum Glanzstoff\, Boos-Fremery-Straße 62\, Tor 1\, Heinsberg\, Nordrhein-Westfalen\, 52525\, Deutschland
ORGANIZER;CN="Dokumentationszentrum Glanzstoff":MAILTO:info@glanzstoff-doku.de
END:VEVENT
BEGIN:VEVENT
DTSTART;TZID=Europe/Berlin:20250220T150000
DTEND;TZID=Europe/Berlin:20250220T170000
DTSTAMP:20260423T165356
CREATED:20250121T175649Z
LAST-MODIFIED:20250121T175649Z
UID:10000082-1740063600-1740070800@glanzstoff-doku.de
SUMMARY:Reservierte Gruppenführung
DESCRIPTION:Altenheim Dremmen
URL:https://glanzstoff-doku.de/event/reservierte-gruppenfuehrung/
LOCATION:Dokumentationszentrum Glanzstoff\, Boos-Fremery-Straße 62\, Tor 1\, Heinsberg\, Nordrhein-Westfalen\, 52525\, Deutschland
ORGANIZER;CN="Dokumentationszentrum Glanzstoff":MAILTO:info@glanzstoff-doku.de
END:VEVENT
BEGIN:VEVENT
DTSTART;TZID=Europe/Berlin:20250214T160000
DTEND;TZID=Europe/Berlin:20250214T180000
DTSTAMP:20260423T165356
CREATED:20250210T151642Z
LAST-MODIFIED:20250210T151642Z
UID:10000087-1739548800-1739556000@glanzstoff-doku.de
SUMMARY:Angemeldete Familienführung
DESCRIPTION:
URL:https://glanzstoff-doku.de/event/angemeldete-familienfuehrung/
LOCATION:Dokumentationszentrum Glanzstoff\, Boos-Fremery-Straße 62\, Tor 1\, Heinsberg\, Nordrhein-Westfalen\, 52525\, Deutschland
ORGANIZER;CN="Dokumentationszentrum Glanzstoff":MAILTO:info@glanzstoff-doku.de
END:VEVENT
BEGIN:VEVENT
DTSTART;TZID=Europe/Berlin:20250212T143000
DTEND;TZID=Europe/Berlin:20250212T170000
DTSTAMP:20260423T165356
CREATED:20250203T163042Z
LAST-MODIFIED:20250203T163042Z
UID:10000085-1739370600-1739379600@glanzstoff-doku.de
SUMMARY:Angemeldete Gruppenführung
DESCRIPTION:Fahrradgruppe Braunsrath
URL:https://glanzstoff-doku.de/event/angemeldete-gruppenfuehrung-17/
LOCATION:Dokumentationszentrum Glanzstoff\, Boos-Fremery-Straße 62\, Tor 1\, Heinsberg\, Nordrhein-Westfalen\, 52525\, Deutschland
ORGANIZER;CN="Dokumentationszentrum Glanzstoff":MAILTO:info@glanzstoff-doku.de
END:VEVENT
BEGIN:VEVENT
DTSTART;TZID=Europe/Berlin:20250115T143000
DTEND;TZID=Europe/Berlin:20250115T170000
DTSTAMP:20260423T165356
CREATED:20250121T175506Z
LAST-MODIFIED:20250121T175506Z
UID:10000081-1736951400-1736960400@glanzstoff-doku.de
SUMMARY:Angemeldete Gruppenführung
DESCRIPTION:IGBCE Oberbruch
URL:https://glanzstoff-doku.de/event/angemeldete-gruppenfuehrung-16/
LOCATION:Dokumentationszentrum Glanzstoff\, Boos-Fremery-Straße 62\, Tor 1\, Heinsberg\, Nordrhein-Westfalen\, 52525\, Deutschland
ORGANIZER;CN="Dokumentationszentrum Glanzstoff":MAILTO:info@glanzstoff-doku.de
END:VEVENT
BEGIN:VEVENT
DTSTART;VALUE=DATE:20241019
DTEND;VALUE=DATE:20241020
DTSTAMP:20260423T165356
CREATED:20241008T085244Z
LAST-MODIFIED:20241008T085531Z
UID:10000078-1729296000-1729382399@glanzstoff-doku.de
SUMMARY:Geschlossen am 19.10.2024
DESCRIPTION:Wegen Reparaturarbeiten bleibt das Dokumentationszentrum am 19.10.2024 außerplanmäßig geschlossen. Wir bitten um ihr Verständnis. \n 
URL:https://glanzstoff-doku.de/event/geschlossen-am-19-10-2024/
LOCATION:Dokumentationszentrum Glanzstoff\, Boos-Fremery-Straße 62\, Tor 1\, Heinsberg\, Nordrhein-Westfalen\, 52525\, Deutschland
ORGANIZER;CN="Dokumentationszentrum Glanzstoff":MAILTO:info@glanzstoff-doku.de
END:VEVENT
BEGIN:VEVENT
DTSTART;TZID=Europe/Berlin:20241011T140000
DTEND;TZID=Europe/Berlin:20241011T170000
DTSTAMP:20260423T165356
CREATED:20240408T191104Z
LAST-MODIFIED:20240408T191952Z
UID:10000055-1728655200-1728666000@glanzstoff-doku.de
SUMMARY:Angemeldete Gruppenführung
DESCRIPTION:Katholische Arbeiterbewegung
URL:https://glanzstoff-doku.de/event/angemeldete-gruppenfuehrung-19/
LOCATION:Dokumentationszentrum Glanzstoff\, Boos-Fremery-Straße 62\, Tor 1\, Heinsberg\, Nordrhein-Westfalen\, 52525\, Deutschland
ORGANIZER;CN="Dokumentationszentrum Glanzstoff":MAILTO:info@glanzstoff-doku.de
END:VEVENT
BEGIN:VEVENT
DTSTART;TZID=Europe/Berlin:20241005T153000
DTEND;TZID=Europe/Berlin:20241005T173000
DTSTAMP:20260423T165356
CREATED:20240707T151326Z
LAST-MODIFIED:20240707T151326Z
UID:10000071-1728142200-1728149400@glanzstoff-doku.de
SUMMARY:Angemeldete Gruppenführung
DESCRIPTION:Abiturjubiläum KHG Heinsberg
URL:https://glanzstoff-doku.de/event/angemeldete-gruppenfuehrung-31/
LOCATION:Dokumentationszentrum Glanzstoff\, Boos-Fremery-Straße 62\, Tor 1\, Heinsberg\, Nordrhein-Westfalen\, 52525\, Deutschland
ORGANIZER;CN="Dokumentationszentrum Glanzstoff":MAILTO:info@glanzstoff-doku.de
END:VEVENT
BEGIN:VEVENT
DTSTART;TZID=Europe/Berlin:20240914T150000
DTEND;TZID=Europe/Berlin:20240914T170000
DTSTAMP:20260423T165356
CREATED:20240311T130528Z
LAST-MODIFIED:20240312T133014Z
UID:10000054-1726326000-1726333200@glanzstoff-doku.de
SUMMARY:Angemeldete Gruppenführung
DESCRIPTION:Seniorengruppe Schleiden
URL:https://glanzstoff-doku.de/event/angemeldete-gruppenfuehrung-18/
LOCATION:Dokumentationszentrum Glanzstoff\, Boos-Fremery-Straße 62\, Tor 1\, Heinsberg\, Nordrhein-Westfalen\, 52525\, Deutschland
ORGANIZER;CN="Dokumentationszentrum Glanzstoff":MAILTO:info@glanzstoff-doku.de
END:VEVENT
BEGIN:VEVENT
DTSTART;TZID=Europe/Berlin:20240912T110000
DTEND;TZID=Europe/Berlin:20240912T130000
DTSTAMP:20260423T165356
CREATED:20240707T151211Z
LAST-MODIFIED:20240707T151211Z
UID:10000070-1726138800-1726146000@glanzstoff-doku.de
SUMMARY:Angemeldete Gruppenführung
DESCRIPTION:Katholische Arbeiterbewegung Diözese Aachen
URL:https://glanzstoff-doku.de/event/angemeldete-gruppenfuehrung-30/
LOCATION:Dokumentationszentrum Glanzstoff\, Boos-Fremery-Straße 62\, Tor 1\, Heinsberg\, Nordrhein-Westfalen\, 52525\, Deutschland
ORGANIZER;CN="Dokumentationszentrum Glanzstoff":MAILTO:info@glanzstoff-doku.de
END:VEVENT
BEGIN:VEVENT
DTSTART;TZID=Europe/Berlin:20240908T140000
DTEND;TZID=Europe/Berlin:20240908T170000
DTSTAMP:20260423T165356
CREATED:20240707T151808Z
LAST-MODIFIED:20240901T161851Z
UID:10000072-1725804000-1725814800@glanzstoff-doku.de
SUMMARY:Kinder- und Familientag
DESCRIPTION:Sonderveranstaltung \nDas Dokumentationszentrum zeigt an diesem Tag 3 Filme über die Geschichte der Glanzstoffwerke. \n14.15 Uhr „Wie alles begann“ Eine kurzweilige Zeitreise über die Entwicklung des Standortes Oberbruch. Film aus dem Jahre 2021. Laufzeit 25 Minuten. \n15.15 Uhr „Herstellung von Kunstseide (Rayon) in Oberbruch“. Schwarz/Weiß Film mit Untertitel aus dem Jahre 1928/1929. Laufzeit 15 Minuten. \n16.15 Uhr „Glanzstoff: Werke und Menschen“. Schwarz/Weiß Film aus den 1950er Jahren.                                                      Laufzeit 35 Minuten. \n 
URL:https://glanzstoff-doku.de/event/sonderveranstaltung-2/
LOCATION:Dokumentationszentrum Glanzstoff\, Boos-Fremery-Straße 62\, Tor 1\, Heinsberg\, Nordrhein-Westfalen\, 52525\, Deutschland
ORGANIZER;CN="Dokumentationszentrum Glanzstoff":MAILTO:info@glanzstoff-doku.de
END:VEVENT
BEGIN:VEVENT
DTSTART;TZID=Europe/Berlin:20240830T170000
DTEND;TZID=Europe/Berlin:20240830T190000
DTSTAMP:20260423T165356
CREATED:20240707T151100Z
LAST-MODIFIED:20240707T151100Z
UID:10000069-1725037200-1725044400@glanzstoff-doku.de
SUMMARY:Angemeldete Gruppenführung
DESCRIPTION:Freundeskreis Aachener Zeitung (4)
URL:https://glanzstoff-doku.de/event/angemeldete-gruppenfuehrung-29/
LOCATION:Dokumentationszentrum Glanzstoff\, Boos-Fremery-Straße 62\, Tor 1\, Heinsberg\, Nordrhein-Westfalen\, 52525\, Deutschland
ORGANIZER;CN="Dokumentationszentrum Glanzstoff":MAILTO:info@glanzstoff-doku.de
END:VEVENT
BEGIN:VEVENT
DTSTART;TZID=Europe/Berlin:20240830T153000
DTEND;TZID=Europe/Berlin:20240830T170000
DTSTAMP:20260423T165356
CREATED:20240804T085433Z
LAST-MODIFIED:20240804T085530Z
UID:10000074-1725031800-1725037200@glanzstoff-doku.de
SUMMARY:Angemeldete Gruppenführung
DESCRIPTION:Ehemalige Kollegen Standortentwicklung
URL:https://glanzstoff-doku.de/event/angemeldete-gruppenfuehrung-33/
LOCATION:Dokumentationszentrum Glanzstoff\, Boos-Fremery-Straße 62\, Tor 1\, Heinsberg\, Nordrhein-Westfalen\, 52525\, Deutschland
ORGANIZER;CN="Dokumentationszentrum Glanzstoff":MAILTO:info@glanzstoff-doku.de
END:VEVENT
BEGIN:VEVENT
DTSTART;TZID=Europe/Berlin:20240825T153000
DTEND;TZID=Europe/Berlin:20240825T180000
DTSTAMP:20260423T165356
CREATED:20240517T190254Z
LAST-MODIFIED:20240517T190254Z
UID:10000060-1724599800-1724608800@glanzstoff-doku.de
SUMMARY:Angemeldete Gruppenführung
DESCRIPTION:Sportverein TV Gerderhahn
URL:https://glanzstoff-doku.de/event/angemeldete-gruppenfuehrung-24/
LOCATION:Dokumentationszentrum Glanzstoff\, Boos-Fremery-Straße 62\, Tor 1\, Heinsberg\, Nordrhein-Westfalen\, 52525\, Deutschland
ORGANIZER;CN="Dokumentationszentrum Glanzstoff":MAILTO:info@glanzstoff-doku.de
END:VEVENT
BEGIN:VEVENT
DTSTART;TZID=Europe/Berlin:20240816T170000
DTEND;TZID=Europe/Berlin:20240816T190000
DTSTAMP:20260423T165356
CREATED:20240707T150957Z
LAST-MODIFIED:20240707T150957Z
UID:10000068-1723827600-1723834800@glanzstoff-doku.de
SUMMARY:Angemeldete Gruppenführung
DESCRIPTION:Freundeskreis Aachener Zeitung (3)
URL:https://glanzstoff-doku.de/event/angemeldete-gruppenfuehrung-28/
LOCATION:Dokumentationszentrum Glanzstoff\, Boos-Fremery-Straße 62\, Tor 1\, Heinsberg\, Nordrhein-Westfalen\, 52525\, Deutschland
ORGANIZER;CN="Dokumentationszentrum Glanzstoff":MAILTO:info@glanzstoff-doku.de
END:VEVENT
BEGIN:VEVENT
DTSTART;TZID=Europe/Berlin:20240813T170000
DTEND;TZID=Europe/Berlin:20240813T190000
DTSTAMP:20260423T165356
CREATED:20240804T085222Z
LAST-MODIFIED:20240804T085222Z
UID:10000073-1723568400-1723575600@glanzstoff-doku.de
SUMMARY:Angemeldete Gruppenführung
DESCRIPTION:Alliander
URL:https://glanzstoff-doku.de/event/angemeldete-gruppenfuehrung-32/
LOCATION:Dokumentationszentrum Glanzstoff\, Boos-Fremery-Straße 62\, Tor 1\, Heinsberg\, Nordrhein-Westfalen\, 52525\, Deutschland
ORGANIZER;CN="Dokumentationszentrum Glanzstoff":MAILTO:info@glanzstoff-doku.de
END:VEVENT
BEGIN:VEVENT
DTSTART;TZID=Europe/Berlin:20240728T140000
DTEND;TZID=Europe/Berlin:20240728T163000
DTSTAMP:20260423T165356
CREATED:20240627T182510Z
LAST-MODIFIED:20240627T182639Z
UID:10000066-1722175200-1722184200@glanzstoff-doku.de
SUMMARY:Sonderveranstaltung
DESCRIPTION:Auf den Spuren von Glanzstoff in Oberbruch\, Teil 2 \nEin geführter Ortsrundgang für Jugendliche und Erwachsene mit Anette Tanz. \nAnmeldung: tanz-anette@gmx.de  oder 02452 / 64839 \nTreffpunkt: Parkplatz Bahnhof Oberbruch\, In der Gansweid.
URL:https://glanzstoff-doku.de/event/sonderveranstaltung-mit-anette-tanz/
LOCATION:Dokumentationszentrum Glanzstoff\, Boos-Fremery-Straße 62\, Tor 1\, Heinsberg\, Nordrhein-Westfalen\, 52525\, Deutschland
ORGANIZER;CN="Dokumentationszentrum Glanzstoff":MAILTO:info@glanzstoff-doku.de
END:VEVENT
BEGIN:VEVENT
DTSTART;TZID=Europe/Berlin:20240726T170000
DTEND;TZID=Europe/Berlin:20240726T190000
DTSTAMP:20260423T165356
CREATED:20240707T150839Z
LAST-MODIFIED:20240707T150839Z
UID:10000067-1722013200-1722020400@glanzstoff-doku.de
SUMMARY:Angelmeldete Gruppenführung
DESCRIPTION:Freundeskreis Aachner Zeitung (2)
URL:https://glanzstoff-doku.de/event/angelmeldete-gruppenfuehrung-3/
LOCATION:Dokumentationszentrum Glanzstoff\, Boos-Fremery-Straße 62\, Tor 1\, Heinsberg\, Nordrhein-Westfalen\, 52525\, Deutschland
ORGANIZER;CN="Dokumentationszentrum Glanzstoff":MAILTO:info@glanzstoff-doku.de
END:VEVENT
BEGIN:VEVENT
DTSTART;TZID=Europe/Berlin:20240704T100000
DTEND;TZID=Europe/Berlin:20240704T140000
DTSTAMP:20260423T165356
CREATED:20240627T182126Z
LAST-MODIFIED:20240627T182126Z
UID:10000065-1720087200-1720101600@glanzstoff-doku.de
SUMMARY:Angelmeldete Gruppenführung
DESCRIPTION:BKK Euregio
URL:https://glanzstoff-doku.de/event/angelmeldete-gruppenfuehrung-2/
LOCATION:Dokumentationszentrum Glanzstoff\, Boos-Fremery-Straße 62\, Tor 1\, Heinsberg\, Nordrhein-Westfalen\, 52525\, Deutschland
ORGANIZER;CN="Dokumentationszentrum Glanzstoff":MAILTO:info@glanzstoff-doku.de
END:VEVENT
BEGIN:VEVENT
DTSTART;VALUE=DATE:20240625
DTEND;VALUE=DATE:20240626
DTSTAMP:20260423T165356
CREATED:20240611T200115Z
LAST-MODIFIED:20240611T200115Z
UID:10000063-1719273600-1719359999@glanzstoff-doku.de
SUMMARY:Angemeldete Gruppenführung
DESCRIPTION:Firma ktex\, Herzogenrath
URL:https://glanzstoff-doku.de/event/angemeldete-gruppenfuehrung-27/
LOCATION:Dokumentationszentrum Glanzstoff\, Boos-Fremery-Straße 62\, Tor 1\, Heinsberg\, Nordrhein-Westfalen\, 52525\, Deutschland
ORGANIZER;CN="Dokumentationszentrum Glanzstoff":MAILTO:info@glanzstoff-doku.de
END:VEVENT
BEGIN:VEVENT
DTSTART;TZID=Europe/Berlin:20240408T170000
DTEND;TZID=Europe/Berlin:20240408T183000
DTSTAMP:20260423T165356
CREATED:20240225T201820Z
LAST-MODIFIED:20240225T202126Z
UID:10000049-1712595600-1712601000@glanzstoff-doku.de
SUMMARY:Angemeldete Gruppenführung
DESCRIPTION:Netzwerktreffen WFG
URL:https://glanzstoff-doku.de/event/angemeldete-fruppenfuehrung/
LOCATION:Dokumentationszentrum Glanzstoff\, Boos-Fremery-Straße 62\, Tor 1\, Heinsberg\, Nordrhein-Westfalen\, 52525\, Deutschland
ORGANIZER;CN="Dokumentationszentrum Glanzstoff":MAILTO:info@glanzstoff-doku.de
END:VEVENT
BEGIN:VEVENT
DTSTART;TZID=Europe/Berlin:20240321T140000
DTEND;TZID=Europe/Berlin:20240321T150000
DTSTAMP:20260423T165356
CREATED:20240302T092140Z
LAST-MODIFIED:20240312T132729Z
UID:10000053-1711029600-1711033200@glanzstoff-doku.de
SUMMARY:Workshop
DESCRIPTION:Gesamtschule Oberbruch
URL:https://glanzstoff-doku.de/event/workshop/
LOCATION:Dokumentationszentrum Glanzstoff\, Boos-Fremery-Straße 62\, Tor 1\, Heinsberg\, Nordrhein-Westfalen\, 52525\, Deutschland
ORGANIZER;CN="Dokumentationszentrum Glanzstoff":MAILTO:info@glanzstoff-doku.de
END:VEVENT
BEGIN:VEVENT
DTSTART;VALUE=DATE:20240208
DTEND;VALUE=DATE:20240215
DTSTAMP:20260423T165356
CREATED:20240119T190005Z
LAST-MODIFIED:20240119T190005Z
UID:10000046-1707350400-1707955199@glanzstoff-doku.de
SUMMARY:Geschlossen
DESCRIPTION:Das Dokumentationszentrum Glanzstoff bleibt über die Karnevalstag geschlossen. Wir wünschen allen Karnevalisten viel Spaß.
URL:https://glanzstoff-doku.de/event/geschlossen-4/
LOCATION:Dokumentationszentrum Glanzstoff\, Boos-Fremery-Straße 62\, Tor 1\, Heinsberg\, Nordrhein-Westfalen\, 52525\, Deutschland
ORGANIZER;CN="Dokumentationszentrum Glanzstoff":MAILTO:info@glanzstoff-doku.de
END:VEVENT
BEGIN:VEVENT
DTSTART;TZID=Europe/Berlin:20231228T130000
DTEND;TZID=Europe/Berlin:20231228T153000
DTSTAMP:20260423T165356
CREATED:20231217T101231Z
LAST-MODIFIED:20231217T101231Z
UID:10000042-1703768400-1703777400@glanzstoff-doku.de
SUMMARY:Angemeldete Gruppenführung
DESCRIPTION:
URL:https://glanzstoff-doku.de/event/angemeldete-gruppenfuehrung-15/
LOCATION:Dokumentationszentrum Glanzstoff\, Boos-Fremery-Straße 62\, Tor 1\, Heinsberg\, Nordrhein-Westfalen\, 52525\, Deutschland
ORGANIZER;CN="Dokumentationszentrum Glanzstoff":MAILTO:info@glanzstoff-doku.de
END:VEVENT
BEGIN:VEVENT
DTSTART;TZID=Europe/Berlin:20231221T000000
DTEND;TZID=Europe/Berlin:20240110T235900
DTSTAMP:20260423T165356
CREATED:20230328T131445Z
LAST-MODIFIED:20231121T120753Z
UID:10000003-1703116800-1704931140@glanzstoff-doku.de
SUMMARY:Geschlossen
DESCRIPTION:Das Dokumentationszentrum bleibt in den Weihnachtsferien geschlossen. Wir freuen uns\, sie wieder ab dem 11. Januar 2024 begrüßen zu dürfen.
URL:https://glanzstoff-doku.de/event/dokumentationszentrum-geschlossen/
LOCATION:Dokumentationszentrum Glanzstoff\, Boos-Fremery-Straße 62\, Tor 1\, Heinsberg\, Nordrhein-Westfalen\, 52525\, Deutschland
ORGANIZER;CN="Dokumentationszentrum Glanzstoff":MAILTO:info@glanzstoff-doku.de
END:VEVENT
BEGIN:VEVENT
DTSTART;TZID=Europe/Berlin:20231206T153000
DTEND;TZID=Europe/Berlin:20231206T180000
DTSTAMP:20260423T165356
CREATED:20231123T201114Z
LAST-MODIFIED:20231127T141912Z
UID:10000040-1701876600-1701885600@glanzstoff-doku.de
SUMMARY:Angelmeldete Gruppenführung
DESCRIPTION:
URL:https://glanzstoff-doku.de/event/angelmeldete-fuehrung-2/
LOCATION:Dokumentationszentrum Glanzstoff\, Boos-Fremery-Straße 62\, Tor 1\, Heinsberg\, Nordrhein-Westfalen\, 52525\, Deutschland
ORGANIZER;CN="Dokumentationszentrum Glanzstoff":MAILTO:info@glanzstoff-doku.de
END:VEVENT
BEGIN:VEVENT
DTSTART;TZID=Europe/Berlin:20231203T120000
DTEND;TZID=Europe/Berlin:20231203T143000
DTSTAMP:20260423T165356
CREATED:20231121T120314Z
LAST-MODIFIED:20231121T120314Z
UID:10000039-1701604800-1701613800@glanzstoff-doku.de
SUMMARY:Angemeldete Gruppenführung
DESCRIPTION:
URL:https://glanzstoff-doku.de/event/angemeldete-gruppenfuehrung-14/
LOCATION:Dokumentationszentrum Glanzstoff\, Boos-Fremery-Straße 62\, Tor 1\, Heinsberg\, Nordrhein-Westfalen\, 52525\, Deutschland
ORGANIZER;CN="Dokumentationszentrum Glanzstoff":MAILTO:info@glanzstoff-doku.de
END:VEVENT
BEGIN:VEVENT
DTSTART;TZID=Europe/Berlin:20231119T000000
DTEND;TZID=Europe/Berlin:20240531T000000
DTSTAMP:20260423T165356
CREATED:20231116T075624Z
LAST-MODIFIED:20240409T161727Z
UID:10000038-1700352000-1717113600@glanzstoff-doku.de
SUMMARY:Ausstellung "Faszination Viskose"
DESCRIPTION:Donnerstag – Sonntag 14.00 – 17.00 Uhr
URL:https://glanzstoff-doku.de/event/sonderausstellung-faszination-viskose/
LOCATION:Dokumentationszentrum Glanzstoff\, Boos-Fremery-Straße 62\, Tor 1\, Heinsberg\, Nordrhein-Westfalen\, 52525\, Deutschland
ORGANIZER;CN="Dokumentationszentrum Glanzstoff":MAILTO:info@glanzstoff-doku.de
END:VEVENT
END:VCALENDAR