BEGIN:VCALENDAR
VERSION:2.0
PRODID:-//Dokumentationszentrum GLANZSTOFF - ECPv6.3.5//NONSGML v1.0//EN
CALSCALE:GREGORIAN
METHOD:PUBLISH
X-WR-CALNAME:Dokumentationszentrum GLANZSTOFF
X-ORIGINAL-URL:https://glanzstoff-doku.de
X-WR-CALDESC:Veranstaltungen für Dokumentationszentrum GLANZSTOFF
REFRESH-INTERVAL;VALUE=DURATION:PT1H
X-Robots-Tag:noindex
X-PUBLISHED-TTL:PT1H
BEGIN:VTIMEZONE
TZID:Europe/Berlin
BEGIN:DAYLIGHT
TZOFFSETFROM:+0100
TZOFFSETTO:+0200
TZNAME:CEST
DTSTART:20230326T010000
END:DAYLIGHT
BEGIN:STANDARD
TZOFFSETFROM:+0200
TZOFFSETTO:+0100
TZNAME:CET
DTSTART:20231029T010000
END:STANDARD
BEGIN:DAYLIGHT
TZOFFSETFROM:+0100
TZOFFSETTO:+0200
TZNAME:CEST
DTSTART:20240331T010000
END:DAYLIGHT
BEGIN:STANDARD
TZOFFSETFROM:+0200
TZOFFSETTO:+0100
TZNAME:CET
DTSTART:20241027T010000
END:STANDARD
END:VTIMEZONE
BEGIN:VEVENT
DTSTART;TZID=Europe/Berlin:20240321T140000
DTEND;TZID=Europe/Berlin:20240321T150000
DTSTAMP:20260423T200510
CREATED:20240302T092140Z
LAST-MODIFIED:20240312T132729Z
UID:10000053-1711029600-1711033200@glanzstoff-doku.de
SUMMARY:Workshop
DESCRIPTION:Gesamtschule Oberbruch
URL:https://glanzstoff-doku.de/event/workshop/
LOCATION:Dokumentationszentrum Glanzstoff\, Boos-Fremery-Straße 62\, Tor 1\, Heinsberg\, Nordrhein-Westfalen\, 52525\, Deutschland
ORGANIZER;CN="Dokumentationszentrum Glanzstoff":MAILTO:info@glanzstoff-doku.de
END:VEVENT
BEGIN:VEVENT
DTSTART;VALUE=DATE:20240208
DTEND;VALUE=DATE:20240215
DTSTAMP:20260423T200510
CREATED:20240119T190005Z
LAST-MODIFIED:20240119T190005Z
UID:10000046-1707350400-1707955199@glanzstoff-doku.de
SUMMARY:Geschlossen
DESCRIPTION:Das Dokumentationszentrum Glanzstoff bleibt über die Karnevalstag geschlossen. Wir wünschen allen Karnevalisten viel Spaß.
URL:https://glanzstoff-doku.de/event/geschlossen-4/
LOCATION:Dokumentationszentrum Glanzstoff\, Boos-Fremery-Straße 62\, Tor 1\, Heinsberg\, Nordrhein-Westfalen\, 52525\, Deutschland
ORGANIZER;CN="Dokumentationszentrum Glanzstoff":MAILTO:info@glanzstoff-doku.de
END:VEVENT
BEGIN:VEVENT
DTSTART;TZID=Europe/Berlin:20231228T130000
DTEND;TZID=Europe/Berlin:20231228T153000
DTSTAMP:20260423T200510
CREATED:20231217T101231Z
LAST-MODIFIED:20231217T101231Z
UID:10000042-1703768400-1703777400@glanzstoff-doku.de
SUMMARY:Angemeldete Gruppenführung
DESCRIPTION:
URL:https://glanzstoff-doku.de/event/angemeldete-gruppenfuehrung-15/
LOCATION:Dokumentationszentrum Glanzstoff\, Boos-Fremery-Straße 62\, Tor 1\, Heinsberg\, Nordrhein-Westfalen\, 52525\, Deutschland
ORGANIZER;CN="Dokumentationszentrum Glanzstoff":MAILTO:info@glanzstoff-doku.de
END:VEVENT
BEGIN:VEVENT
DTSTART;TZID=Europe/Berlin:20231221T000000
DTEND;TZID=Europe/Berlin:20240110T235900
DTSTAMP:20260423T200510
CREATED:20230328T131445Z
LAST-MODIFIED:20231121T120753Z
UID:10000003-1703116800-1704931140@glanzstoff-doku.de
SUMMARY:Geschlossen
DESCRIPTION:Das Dokumentationszentrum bleibt in den Weihnachtsferien geschlossen. Wir freuen uns\, sie wieder ab dem 11. Januar 2024 begrüßen zu dürfen.
URL:https://glanzstoff-doku.de/event/dokumentationszentrum-geschlossen/
LOCATION:Dokumentationszentrum Glanzstoff\, Boos-Fremery-Straße 62\, Tor 1\, Heinsberg\, Nordrhein-Westfalen\, 52525\, Deutschland
ORGANIZER;CN="Dokumentationszentrum Glanzstoff":MAILTO:info@glanzstoff-doku.de
END:VEVENT
BEGIN:VEVENT
DTSTART;TZID=Europe/Berlin:20231206T153000
DTEND;TZID=Europe/Berlin:20231206T180000
DTSTAMP:20260423T200510
CREATED:20231123T201114Z
LAST-MODIFIED:20231127T141912Z
UID:10000040-1701876600-1701885600@glanzstoff-doku.de
SUMMARY:Angelmeldete Gruppenführung
DESCRIPTION:
URL:https://glanzstoff-doku.de/event/angelmeldete-fuehrung-2/
LOCATION:Dokumentationszentrum Glanzstoff\, Boos-Fremery-Straße 62\, Tor 1\, Heinsberg\, Nordrhein-Westfalen\, 52525\, Deutschland
ORGANIZER;CN="Dokumentationszentrum Glanzstoff":MAILTO:info@glanzstoff-doku.de
END:VEVENT
BEGIN:VEVENT
DTSTART;TZID=Europe/Berlin:20231203T120000
DTEND;TZID=Europe/Berlin:20231203T143000
DTSTAMP:20260423T200510
CREATED:20231121T120314Z
LAST-MODIFIED:20231121T120314Z
UID:10000039-1701604800-1701613800@glanzstoff-doku.de
SUMMARY:Angemeldete Gruppenführung
DESCRIPTION:
URL:https://glanzstoff-doku.de/event/angemeldete-gruppenfuehrung-14/
LOCATION:Dokumentationszentrum Glanzstoff\, Boos-Fremery-Straße 62\, Tor 1\, Heinsberg\, Nordrhein-Westfalen\, 52525\, Deutschland
ORGANIZER;CN="Dokumentationszentrum Glanzstoff":MAILTO:info@glanzstoff-doku.de
END:VEVENT
BEGIN:VEVENT
DTSTART;TZID=Europe/Berlin:20231119T000000
DTEND;TZID=Europe/Berlin:20240531T000000
DTSTAMP:20260423T200510
CREATED:20231116T075624Z
LAST-MODIFIED:20240409T161727Z
UID:10000038-1700352000-1717113600@glanzstoff-doku.de
SUMMARY:Ausstellung "Faszination Viskose"
DESCRIPTION:Donnerstag – Sonntag 14.00 – 17.00 Uhr
URL:https://glanzstoff-doku.de/event/sonderausstellung-faszination-viskose/
LOCATION:Dokumentationszentrum Glanzstoff\, Boos-Fremery-Straße 62\, Tor 1\, Heinsberg\, Nordrhein-Westfalen\, 52525\, Deutschland
ORGANIZER;CN="Dokumentationszentrum Glanzstoff":MAILTO:info@glanzstoff-doku.de
END:VEVENT
BEGIN:VEVENT
DTSTART;TZID=Europe/Berlin:20231115T170000
DTEND;TZID=Europe/Berlin:20231115T190000
DTSTAMP:20260423T200510
CREATED:20230809T101826Z
LAST-MODIFIED:20230809T101826Z
UID:10000034-1700067600-1700074800@glanzstoff-doku.de
SUMMARY:Angemeldete Gruppenführung
DESCRIPTION:
URL:https://glanzstoff-doku.de/event/angemeldete-gruppenfuehrung-12/
LOCATION:Dokumentationszentrum Glanzstoff\, Boos-Fremery-Straße 62\, Tor 1\, Heinsberg\, Nordrhein-Westfalen\, 52525\, Deutschland
ORGANIZER;CN="Dokumentationszentrum Glanzstoff":MAILTO:info@glanzstoff-doku.de
END:VEVENT
BEGIN:VEVENT
DTSTART;TZID=Europe/Berlin:20231014T103000
DTEND;TZID=Europe/Berlin:20231014T123000
DTSTAMP:20260423T200510
CREATED:20230915T081334Z
LAST-MODIFIED:20230915T081334Z
UID:10000037-1697279400-1697286600@glanzstoff-doku.de
SUMMARY:Angemeldete Gruppenführung
DESCRIPTION:
URL:https://glanzstoff-doku.de/event/angemeldete-gruppenfuehrung-13/
LOCATION:Dokumentationszentrum Glanzstoff\, Boos-Fremery-Straße 62\, Tor 1\, Heinsberg\, Nordrhein-Westfalen\, 52525\, Deutschland
ORGANIZER;CN="Dokumentationszentrum Glanzstoff":MAILTO:info@glanzstoff-doku.de
END:VEVENT
BEGIN:VEVENT
DTSTART;TZID=Europe/Berlin:20230928T160000
DTEND;TZID=Europe/Berlin:20230928T180000
DTSTAMP:20260423T200510
CREATED:20230512T095212Z
LAST-MODIFIED:20230512T095212Z
UID:10000023-1695916800-1695924000@glanzstoff-doku.de
SUMMARY:Angemeldete Gruppenführung
DESCRIPTION:
URL:https://glanzstoff-doku.de/event/angemeldete-gruppenfuehrung-7/
LOCATION:Dokumentationszentrum Glanzstoff\, Boos-Fremery-Straße 62\, Tor 1\, Heinsberg\, Nordrhein-Westfalen\, 52525\, Deutschland
ORGANIZER;CN="Dokumentationszentrum Glanzstoff":MAILTO:info@glanzstoff-doku.de
END:VEVENT
BEGIN:VEVENT
DTSTART;TZID=Europe/Berlin:20230921T153000
DTEND;TZID=Europe/Berlin:20230921T173000
DTSTAMP:20260423T200510
CREATED:20230512T095128Z
LAST-MODIFIED:20230512T095128Z
UID:10000022-1695310200-1695317400@glanzstoff-doku.de
SUMMARY:Angemeldete Gruppenführung
DESCRIPTION:
URL:https://glanzstoff-doku.de/event/angemeldete-gruppenfuehrung-6/
LOCATION:Dokumentationszentrum Glanzstoff\, Boos-Fremery-Straße 62\, Tor 1\, Heinsberg\, Nordrhein-Westfalen\, 52525\, Deutschland
ORGANIZER;CN="Dokumentationszentrum Glanzstoff":MAILTO:info@glanzstoff-doku.de
END:VEVENT
BEGIN:VEVENT
DTSTART;TZID=Europe/Berlin:20230917T140000
DTEND;TZID=Europe/Berlin:20230917T170000
DTSTAMP:20260423T200510
CREATED:20230828T101559Z
LAST-MODIFIED:20230828T101559Z
UID:10000036-1694959200-1694970000@glanzstoff-doku.de
SUMMARY:Sonderveranstaltung
DESCRIPTION:Auf den Spuren von Glanzstoff in Oberbruch. \nGeführter Ortsrundgang mit Anette Tanz von 14.00 – 16.00 Uhr. \nTreffpunkt: Dokumentationszentrum Glanzstoff
URL:https://glanzstoff-doku.de/event/sonderveranstaltung/
LOCATION:Dokumentationszentrum Glanzstoff\, Boos-Fremery-Straße 62\, Tor 1\, Heinsberg\, Nordrhein-Westfalen\, 52525\, Deutschland
ORGANIZER;CN="Dokumentationszentrum Glanzstoff":MAILTO:info@glanzstoff-doku.de
END:VEVENT
BEGIN:VEVENT
DTSTART;TZID=Europe/Berlin:20230826T150000
DTEND;TZID=Europe/Berlin:20230826T170000
DTSTAMP:20260423T200510
CREATED:20230729T122308Z
LAST-MODIFIED:20230729T122308Z
UID:10000032-1693062000-1693069200@glanzstoff-doku.de
SUMMARY:Angemeldete Gruppenführung
DESCRIPTION:
URL:https://glanzstoff-doku.de/event/angemeldete-gruppenfuehrung-11/
LOCATION:Dokumentationszentrum Glanzstoff\, Boos-Fremery-Straße 62\, Tor 1\, Heinsberg\, Nordrhein-Westfalen\, 52525\, Deutschland
ORGANIZER;CN="Dokumentationszentrum Glanzstoff":MAILTO:info@glanzstoff-doku.de
END:VEVENT
BEGIN:VEVENT
DTSTART;TZID=Europe/Berlin:20230826T140000
DTEND;TZID=Europe/Berlin:20230826T160000
DTSTAMP:20260423T200510
CREATED:20230813T091227Z
LAST-MODIFIED:20230813T091227Z
UID:10000035-1693058400-1693065600@glanzstoff-doku.de
SUMMARY:Angelmeldete Gruppe
DESCRIPTION:
URL:https://glanzstoff-doku.de/event/angelmeldete-gruppe/
LOCATION:Dokumentationszentrum Glanzstoff\, Boos-Fremery-Straße 62\, Tor 1\, Heinsberg\, Nordrhein-Westfalen\, 52525\, Deutschland
ORGANIZER;CN="Dokumentationszentrum Glanzstoff":MAILTO:info@glanzstoff-doku.de
END:VEVENT
BEGIN:VEVENT
DTSTART;TZID=Europe/Berlin:20230823T150000
DTEND;TZID=Europe/Berlin:20230823T170000
DTSTAMP:20260423T200510
CREATED:20230502T180214Z
LAST-MODIFIED:20230505T195102Z
UID:10000015-1692802800-1692810000@glanzstoff-doku.de
SUMMARY:Angemeldete Gruppenführung
DESCRIPTION:
URL:https://glanzstoff-doku.de/event/angemeldete-fuehrung-8/
LOCATION:Dokumentationszentrum Glanzstoff\, Boos-Fremery-Straße 62\, Tor 1\, Heinsberg\, Nordrhein-Westfalen\, 52525\, Deutschland
ORGANIZER;CN="Dokumentationszentrum Glanzstoff":MAILTO:info@glanzstoff-doku.de
END:VEVENT
BEGIN:VEVENT
DTSTART;TZID=Europe/Berlin:20230819T130000
DTEND;TZID=Europe/Berlin:20230819T150000
DTSTAMP:20260423T200510
CREATED:20230509T151222Z
LAST-MODIFIED:20230509T151222Z
UID:10000018-1692450000-1692457200@glanzstoff-doku.de
SUMMARY:Angemeldete Gruppenführung
DESCRIPTION:
URL:https://glanzstoff-doku.de/event/angemeldete-gruppenfuehrung-2/
LOCATION:Dokumentationszentrum Glanzstoff\, Boos-Fremery-Straße 62\, Tor 1\, Heinsberg\, Nordrhein-Westfalen\, 52525\, Deutschland
ORGANIZER;CN="Dokumentationszentrum Glanzstoff":MAILTO:info@glanzstoff-doku.de
END:VEVENT
BEGIN:VEVENT
DTSTART;TZID=Europe/Berlin:20230818T150000
DTEND;TZID=Europe/Berlin:20230818T163000
DTSTAMP:20260423T200510
CREATED:20230504T153533Z
LAST-MODIFIED:20230602T084249Z
UID:10000016-1692370800-1692376200@glanzstoff-doku.de
SUMMARY:Angemeldete Gruppenführung
DESCRIPTION:
URL:https://glanzstoff-doku.de/event/angelmeldete-fuehrung/
LOCATION:Dokumentationszentrum Glanzstoff\, Boos-Fremery-Straße 62\, Tor 1\, Heinsberg\, Nordrhein-Westfalen\, 52525\, Deutschland
ORGANIZER;CN="Dokumentationszentrum Glanzstoff":MAILTO:info@glanzstoff-doku.de
END:VEVENT
BEGIN:VEVENT
DTSTART;TZID=Europe/Berlin:20230815T120000
DTEND;TZID=Europe/Berlin:20230815T140000
DTSTAMP:20260423T200510
CREATED:20230803T110757Z
LAST-MODIFIED:20230803T110757Z
UID:10000033-1692100800-1692108000@glanzstoff-doku.de
SUMMARY:Angelmeldete Gruppenführung
DESCRIPTION:
URL:https://glanzstoff-doku.de/event/angelmeldete-gruppenfuehrung/
LOCATION:Dokumentationszentrum Glanzstoff\, Boos-Fremery-Straße 62\, Tor 1\, Heinsberg\, Nordrhein-Westfalen\, 52525\, Deutschland
ORGANIZER;CN="Dokumentationszentrum Glanzstoff":MAILTO:info@glanzstoff-doku.de
END:VEVENT
BEGIN:VEVENT
DTSTART;TZID=Europe/Berlin:20230704T100000
DTEND;TZID=Europe/Berlin:20230704T120000
DTSTAMP:20260423T200510
CREATED:20230601T200251Z
LAST-MODIFIED:20230602T084149Z
UID:10000030-1688464800-1688472000@glanzstoff-doku.de
SUMMARY:Angemeldete Gruppenführung
DESCRIPTION:
URL:https://glanzstoff-doku.de/event/reservierte-gruppenfuehrung-2/
LOCATION:Dokumentationszentrum Glanzstoff\, Boos-Fremery-Straße 62\, Tor 1\, Heinsberg\, Nordrhein-Westfalen\, 52525\, Deutschland
ORGANIZER;CN="Dokumentationszentrum Glanzstoff":MAILTO:info@glanzstoff-doku.de
END:VEVENT
BEGIN:VEVENT
DTSTART;TZID=Europe/Berlin:20230621T143000
DTEND;TZID=Europe/Berlin:20230621T173000
DTSTAMP:20260423T200510
CREATED:20230509T190822Z
LAST-MODIFIED:20230509T190822Z
UID:10000020-1687357800-1687368600@glanzstoff-doku.de
SUMMARY:Angemeldete Gruppenführung
DESCRIPTION:
URL:https://glanzstoff-doku.de/event/angemeldete-gruppenfuehrung-4/
LOCATION:Dokumentationszentrum Glanzstoff\, Boos-Fremery-Straße 62\, Tor 1\, Heinsberg\, Nordrhein-Westfalen\, 52525\, Deutschland
ORGANIZER;CN="Dokumentationszentrum Glanzstoff":MAILTO:info@glanzstoff-doku.de
END:VEVENT
BEGIN:VEVENT
DTSTART;TZID=Europe/Berlin:20230619T140000
DTEND;TZID=Europe/Berlin:20230619T160000
DTSTAMP:20260423T200510
CREATED:20230517T193724Z
LAST-MODIFIED:20230517T193803Z
UID:10000026-1687183200-1687190400@glanzstoff-doku.de
SUMMARY:Angemeldete Gruppenführung
DESCRIPTION:
URL:https://glanzstoff-doku.de/event/angemeldete-gruppenfuehrung-8/
LOCATION:Dokumentationszentrum Glanzstoff\, Boos-Fremery-Straße 62\, Tor 1\, Heinsberg\, Nordrhein-Westfalen\, 52525\, Deutschland
ORGANIZER;CN="Dokumentationszentrum Glanzstoff":MAILTO:info@glanzstoff-doku.de
END:VEVENT
BEGIN:VEVENT
DTSTART;TZID=Europe/Berlin:20230619T110000
DTEND;TZID=Europe/Berlin:20230619T130000
DTSTAMP:20260423T200510
CREATED:20230517T194034Z
LAST-MODIFIED:20230517T194034Z
UID:10000028-1687172400-1687179600@glanzstoff-doku.de
SUMMARY:Angemeldete Gruppenführung
DESCRIPTION:
URL:https://glanzstoff-doku.de/event/angemeldete-gruppenfuehrung-10/
LOCATION:Dokumentationszentrum Glanzstoff\, Boos-Fremery-Straße 62\, Tor 1\, Heinsberg\, Nordrhein-Westfalen\, 52525\, Deutschland
ORGANIZER;CN="Dokumentationszentrum Glanzstoff":MAILTO:info@glanzstoff-doku.de
END:VEVENT
BEGIN:VEVENT
DTSTART;TZID=Europe/Berlin:20230619T090000
DTEND;TZID=Europe/Berlin:20230619T110000
DTSTAMP:20260423T200510
CREATED:20230517T194003Z
LAST-MODIFIED:20230517T194003Z
UID:10000027-1687165200-1687172400@glanzstoff-doku.de
SUMMARY:Angemeldete Gruppenführung
DESCRIPTION:
URL:https://glanzstoff-doku.de/event/angemeldete-gruppenfuehrung-9/
LOCATION:Dokumentationszentrum Glanzstoff\, Boos-Fremery-Straße 62\, Tor 1\, Heinsberg\, Nordrhein-Westfalen\, 52525\, Deutschland
ORGANIZER;CN="Dokumentationszentrum Glanzstoff":MAILTO:info@glanzstoff-doku.de
END:VEVENT
BEGIN:VEVENT
DTSTART;TZID=Europe/Berlin:20230611T140000
DTEND;TZID=Europe/Berlin:20230611T160000
DTSTAMP:20260423T200510
CREATED:20230607T133231Z
LAST-MODIFIED:20230607T134940Z
UID:10000031-1686492000-1686499200@glanzstoff-doku.de
SUMMARY:Sonderveranstaltung
DESCRIPTION:Auf den Spuren von Glanzstoff in Oberbruch. \nGeführter Ortsrundgang mit Anette Tanz von 14.00 – 16.00 Uhr. \nTreffpunkt: Dokumentationszentrum Glanzstoff \n 
URL:https://glanzstoff-doku.de/event/sonderveranstaltung-ausgebucht/
LOCATION:Dokumentationszentrum Glanzstoff\, Boos-Fremery-Straße 62\, Tor 1\, Heinsberg\, Nordrhein-Westfalen\, 52525\, Deutschland
ORGANIZER;CN="Dokumentationszentrum Glanzstoff":MAILTO:info@glanzstoff-doku.de
END:VEVENT
BEGIN:VEVENT
DTSTART;VALUE=DATE:20230608
DTEND;VALUE=DATE:20230609
DTSTAMP:20260423T200510
CREATED:20230515T102732Z
LAST-MODIFIED:20230515T103033Z
UID:10000025-1686182400-1686268799@glanzstoff-doku.de
SUMMARY:Geschlossen
DESCRIPTION:Fronleichnam bleibt das Dokumentationszentrum geschlossen.
URL:https://glanzstoff-doku.de/event/geschlossen-3/
LOCATION:Dokumentationszentrum Glanzstoff\, Boos-Fremery-Straße 62\, Tor 1\, Heinsberg\, Nordrhein-Westfalen\, 52525\, Deutschland
ORGANIZER;CN="Dokumentationszentrum Glanzstoff":MAILTO:info@glanzstoff-doku.de
END:VEVENT
BEGIN:VEVENT
DTSTART;TZID=Europe/Berlin:20230531T150000
DTEND;TZID=Europe/Berlin:20230531T170000
DTSTAMP:20260423T200510
CREATED:20230509T151332Z
LAST-MODIFIED:20230509T151332Z
UID:10000019-1685545200-1685552400@glanzstoff-doku.de
SUMMARY:Angemeldete Gruppenführung
DESCRIPTION:
URL:https://glanzstoff-doku.de/event/angemeldete-gruppenfuehrung-3/
LOCATION:Dokumentationszentrum Glanzstoff\, Boos-Fremery-Straße 62\, Tor 1\, Heinsberg\, Nordrhein-Westfalen\, 52525\, Deutschland
ORGANIZER;CN="Dokumentationszentrum Glanzstoff":MAILTO:info@glanzstoff-doku.de
END:VEVENT
BEGIN:VEVENT
DTSTART;VALUE=DATE:20230528
DTEND;VALUE=DATE:20230529
DTSTAMP:20260423T200510
CREATED:20230501T164213Z
LAST-MODIFIED:20230515T103021Z
UID:10000014-1685232000-1685318399@glanzstoff-doku.de
SUMMARY:Geschlossen
DESCRIPTION:Pfingstsonntag bleibt das Dokumentationszentrum geschlossen.
URL:https://glanzstoff-doku.de/event/geschlossen/
LOCATION:Dokumentationszentrum Glanzstoff\, Boos-Fremery-Straße 62\, Tor 1\, Heinsberg\, Nordrhein-Westfalen\, 52525\, Deutschland
ORGANIZER;CN="Dokumentationszentrum Glanzstoff":MAILTO:info@glanzstoff-doku.de
END:VEVENT
BEGIN:VEVENT
DTSTART;TZID=Europe/Berlin:20230525T160000
DTEND;TZID=Europe/Berlin:20230525T180000
DTSTAMP:20260423T200510
CREATED:20230507T192055Z
LAST-MODIFIED:20230521T194325Z
UID:10000017-1685030400-1685037600@glanzstoff-doku.de
SUMMARY:Angemeldete Gruppenführung
DESCRIPTION:
URL:https://glanzstoff-doku.de/event/angemeldete-gruppenfuehrung/
LOCATION:Dokumentationszentrum Glanzstoff\, Boos-Fremery-Straße 62\, Tor 1\, Heinsberg\, Nordrhein-Westfalen\, 52525\, Deutschland
ORGANIZER;CN="Dokumentationszentrum Glanzstoff":MAILTO:info@glanzstoff-doku.de
END:VEVENT
BEGIN:VEVENT
DTSTART;TZID=Europe/Berlin:20230524T123000
DTEND;TZID=Europe/Berlin:20230524T143000
DTSTAMP:20260423T200510
CREATED:20230425T105910Z
LAST-MODIFIED:20230505T195153Z
UID:10000013-1684931400-1684938600@glanzstoff-doku.de
SUMMARY:Angemeldete Gruppenführung
DESCRIPTION:
URL:https://glanzstoff-doku.de/event/angemeldete-fuehrung-7/
LOCATION:Dokumentationszentrum Glanzstoff\, Boos-Fremery-Straße 62\, Tor 1\, Heinsberg\, Nordrhein-Westfalen\, 52525\, Deutschland
ORGANIZER;CN="Dokumentationszentrum Glanzstoff":MAILTO:info@glanzstoff-doku.de
END:VEVENT
BEGIN:VEVENT
DTSTART;TZID=Europe/Berlin:20230523T140000
DTEND;TZID=Europe/Berlin:20230523T153000
DTSTAMP:20260423T200510
CREATED:20230512T085757Z
LAST-MODIFIED:20230521T194249Z
UID:10000021-1684850400-1684855800@glanzstoff-doku.de
SUMMARY:Angemeldete Gruppenführung
DESCRIPTION:
URL:https://glanzstoff-doku.de/event/angemeldete-gruppenfuehrung-5/
LOCATION:Dokumentationszentrum Glanzstoff\, Boos-Fremery-Straße 62\, Tor 1\, Heinsberg\, Nordrhein-Westfalen\, 52525\, Deutschland
ORGANIZER;CN="Dokumentationszentrum Glanzstoff":MAILTO:info@glanzstoff-doku.de
END:VEVENT
END:VCALENDAR