BEGIN:VCALENDAR
VERSION:2.0
PRODID:-//Dokumentationszentrum GLANZSTOFF - ECPv6.3.5//NONSGML v1.0//EN
CALSCALE:GREGORIAN
METHOD:PUBLISH
X-WR-CALNAME:Dokumentationszentrum GLANZSTOFF
X-ORIGINAL-URL:https://glanzstoff-doku.de
X-WR-CALDESC:Veranstaltungen für Dokumentationszentrum GLANZSTOFF
REFRESH-INTERVAL;VALUE=DURATION:PT1H
X-Robots-Tag:noindex
X-PUBLISHED-TTL:PT1H
BEGIN:VTIMEZONE
TZID:Europe/Berlin
BEGIN:DAYLIGHT
TZOFFSETFROM:+0100
TZOFFSETTO:+0200
TZNAME:CEST
DTSTART:20230326T010000
END:DAYLIGHT
BEGIN:STANDARD
TZOFFSETFROM:+0200
TZOFFSETTO:+0100
TZNAME:CET
DTSTART:20231029T010000
END:STANDARD
END:VTIMEZONE
BEGIN:VEVENT
DTSTART;VALUE=DATE:20230608
DTEND;VALUE=DATE:20230609
DTSTAMP:20260423T230420
CREATED:20230515T102732Z
LAST-MODIFIED:20230515T103033Z
UID:10000025-1686182400-1686268799@glanzstoff-doku.de
SUMMARY:Geschlossen
DESCRIPTION:Fronleichnam bleibt das Dokumentationszentrum geschlossen.
URL:https://glanzstoff-doku.de/event/geschlossen-3/
LOCATION:Dokumentationszentrum Glanzstoff\, Boos-Fremery-Straße 62\, Tor 1\, Heinsberg\, Nordrhein-Westfalen\, 52525\, Deutschland
ORGANIZER;CN="Dokumentationszentrum Glanzstoff":MAILTO:info@glanzstoff-doku.de
END:VEVENT
BEGIN:VEVENT
DTSTART;TZID=Europe/Berlin:20230531T150000
DTEND;TZID=Europe/Berlin:20230531T170000
DTSTAMP:20260423T230420
CREATED:20230509T151332Z
LAST-MODIFIED:20230509T151332Z
UID:10000019-1685545200-1685552400@glanzstoff-doku.de
SUMMARY:Angemeldete Gruppenführung
DESCRIPTION:
URL:https://glanzstoff-doku.de/event/angemeldete-gruppenfuehrung-3/
LOCATION:Dokumentationszentrum Glanzstoff\, Boos-Fremery-Straße 62\, Tor 1\, Heinsberg\, Nordrhein-Westfalen\, 52525\, Deutschland
ORGANIZER;CN="Dokumentationszentrum Glanzstoff":MAILTO:info@glanzstoff-doku.de
END:VEVENT
BEGIN:VEVENT
DTSTART;VALUE=DATE:20230528
DTEND;VALUE=DATE:20230529
DTSTAMP:20260423T230420
CREATED:20230501T164213Z
LAST-MODIFIED:20230515T103021Z
UID:10000014-1685232000-1685318399@glanzstoff-doku.de
SUMMARY:Geschlossen
DESCRIPTION:Pfingstsonntag bleibt das Dokumentationszentrum geschlossen.
URL:https://glanzstoff-doku.de/event/geschlossen/
LOCATION:Dokumentationszentrum Glanzstoff\, Boos-Fremery-Straße 62\, Tor 1\, Heinsberg\, Nordrhein-Westfalen\, 52525\, Deutschland
ORGANIZER;CN="Dokumentationszentrum Glanzstoff":MAILTO:info@glanzstoff-doku.de
END:VEVENT
BEGIN:VEVENT
DTSTART;TZID=Europe/Berlin:20230525T160000
DTEND;TZID=Europe/Berlin:20230525T180000
DTSTAMP:20260423T230420
CREATED:20230507T192055Z
LAST-MODIFIED:20230521T194325Z
UID:10000017-1685030400-1685037600@glanzstoff-doku.de
SUMMARY:Angemeldete Gruppenführung
DESCRIPTION:
URL:https://glanzstoff-doku.de/event/angemeldete-gruppenfuehrung/
LOCATION:Dokumentationszentrum Glanzstoff\, Boos-Fremery-Straße 62\, Tor 1\, Heinsberg\, Nordrhein-Westfalen\, 52525\, Deutschland
ORGANIZER;CN="Dokumentationszentrum Glanzstoff":MAILTO:info@glanzstoff-doku.de
END:VEVENT
BEGIN:VEVENT
DTSTART;TZID=Europe/Berlin:20230524T123000
DTEND;TZID=Europe/Berlin:20230524T143000
DTSTAMP:20260423T230420
CREATED:20230425T105910Z
LAST-MODIFIED:20230505T195153Z
UID:10000013-1684931400-1684938600@glanzstoff-doku.de
SUMMARY:Angemeldete Gruppenführung
DESCRIPTION:
URL:https://glanzstoff-doku.de/event/angemeldete-fuehrung-7/
LOCATION:Dokumentationszentrum Glanzstoff\, Boos-Fremery-Straße 62\, Tor 1\, Heinsberg\, Nordrhein-Westfalen\, 52525\, Deutschland
ORGANIZER;CN="Dokumentationszentrum Glanzstoff":MAILTO:info@glanzstoff-doku.de
END:VEVENT
BEGIN:VEVENT
DTSTART;TZID=Europe/Berlin:20230523T140000
DTEND;TZID=Europe/Berlin:20230523T153000
DTSTAMP:20260423T230420
CREATED:20230512T085757Z
LAST-MODIFIED:20230521T194249Z
UID:10000021-1684850400-1684855800@glanzstoff-doku.de
SUMMARY:Angemeldete Gruppenführung
DESCRIPTION:
URL:https://glanzstoff-doku.de/event/angemeldete-gruppenfuehrung-5/
LOCATION:Dokumentationszentrum Glanzstoff\, Boos-Fremery-Straße 62\, Tor 1\, Heinsberg\, Nordrhein-Westfalen\, 52525\, Deutschland
ORGANIZER;CN="Dokumentationszentrum Glanzstoff":MAILTO:info@glanzstoff-doku.de
END:VEVENT
BEGIN:VEVENT
DTSTART;TZID=Europe/Berlin:20230521T110000
DTEND;TZID=Europe/Berlin:20230521T170000
DTSTAMP:20260423T230420
CREATED:20230331T180115Z
LAST-MODIFIED:20230402T170234Z
UID:10000005-1684666800-1684688400@glanzstoff-doku.de
SUMMARY:Internationaler Museumstag
DESCRIPTION:Öffnungszeiten von 11:00 bis 17:00 Uhr\nFreier Eintritt und kostenlose Führungen\nSonderveranstaltungen um 11:00 und 14:00 Uhr:\n\n„Auf den Spuren von Glanzstoff in Oberbruch“ \nGeführte Ortsrundgänge mit Anette Tanz. Treffpunkt ist das Dokumentationszentrum. \nDie Anmeldung hierfür erfolgt bis zum 14.05.2023 bei Anette Tanz wie folgt: \nMail: tanz-anette@gmx.de oder Telefon 02452 64839 \n  \n  \n 
URL:https://glanzstoff-doku.de/event/internationaler-museumstag/
LOCATION:Dokumentationszentrum Glanzstoff\, Boos-Fremery-Straße 62\, Tor 1\, Heinsberg\, Nordrhein-Westfalen\, 52525\, Deutschland
ORGANIZER;CN="Dokumentationszentrum Glanzstoff":MAILTO:info@glanzstoff-doku.de
END:VEVENT
BEGIN:VEVENT
DTSTART;VALUE=DATE:20230518
DTEND;VALUE=DATE:20230519
DTSTAMP:20260423T230420
CREATED:20230515T102511Z
LAST-MODIFIED:20230515T103005Z
UID:10000024-1684368000-1684454399@glanzstoff-doku.de
SUMMARY:Geschlossen
DESCRIPTION:Christi Himmelfahrt bleibt des Dokumentationszentrum geschlossen.
URL:https://glanzstoff-doku.de/event/geschlossen-2/
LOCATION:Dokumentationszentrum Glanzstoff\, Boos-Fremery-Straße 62\, Tor 1\, Heinsberg\, Nordrhein-Westfalen\, 52525\, Deutschland
ORGANIZER;CN="Dokumentationszentrum Glanzstoff":MAILTO:info@glanzstoff-doku.de
END:VEVENT
BEGIN:VEVENT
DTSTART;TZID=Europe/Berlin:20230517T113000
DTEND;TZID=Europe/Berlin:20230517T124500
DTSTAMP:20260423T230420
CREATED:20230425T105608Z
LAST-MODIFIED:20230509T072953Z
UID:10000012-1684323000-1684327500@glanzstoff-doku.de
SUMMARY:Angemeldete Gruppenführung
DESCRIPTION:
URL:https://glanzstoff-doku.de/event/angemeldete-fuehrung-6/
LOCATION:Dokumentationszentrum Glanzstoff\, Boos-Fremery-Straße 62\, Tor 1\, Heinsberg\, Nordrhein-Westfalen\, 52525\, Deutschland
ORGANIZER;CN="Dokumentationszentrum Glanzstoff":MAILTO:info@glanzstoff-doku.de
END:VEVENT
BEGIN:VEVENT
DTSTART;TZID=Europe/Berlin:20230513T130000
DTEND;TZID=Europe/Berlin:20230513T150000
DTSTAMP:20260423T230420
CREATED:20230402T173223Z
LAST-MODIFIED:20230505T195233Z
UID:10000010-1683982800-1683990000@glanzstoff-doku.de
SUMMARY:Angemeldete Gruppenführung
DESCRIPTION:
URL:https://glanzstoff-doku.de/event/reservierte-fuehrung/
LOCATION:Dokumentationszentrum Glanzstoff\, Boos-Fremery-Straße 62\, Tor 1\, Heinsberg\, Nordrhein-Westfalen\, 52525\, Deutschland
ORGANIZER;CN="Dokumentationszentrum Glanzstoff":MAILTO:info@glanzstoff-doku.de
END:VEVENT
BEGIN:VEVENT
DTSTART;TZID=Europe/Berlin:20230505T173000
DTEND;TZID=Europe/Berlin:20230505T193000
DTSTAMP:20260423T230420
CREATED:20230402T173129Z
LAST-MODIFIED:20230505T195251Z
UID:10000009-1683307800-1683315000@glanzstoff-doku.de
SUMMARY:Angemeldete Gruppenführung
DESCRIPTION:
URL:https://glanzstoff-doku.de/event/angemeldete-fuehrung-4/
LOCATION:Dokumentationszentrum Glanzstoff\, Boos-Fremery-Straße 62\, Tor 1\, Heinsberg\, Nordrhein-Westfalen\, 52525\, Deutschland
ORGANIZER;CN="Dokumentationszentrum Glanzstoff":MAILTO:info@glanzstoff-doku.de
END:VEVENT
BEGIN:VEVENT
DTSTART;TZID=Europe/Berlin:20230422T153000
DTEND;TZID=Europe/Berlin:20230422T173000
DTSTAMP:20260423T230420
CREATED:20230402T170533Z
LAST-MODIFIED:20230505T195314Z
UID:10000007-1682177400-1682184600@glanzstoff-doku.de
SUMMARY:Angemeldete Gruppenführung
DESCRIPTION:
URL:https://glanzstoff-doku.de/event/angemeldete-fuehrung-2/
LOCATION:Dokumentationszentrum Glanzstoff\, Boos-Fremery-Straße 62\, Tor 1\, Heinsberg\, Nordrhein-Westfalen\, 52525\, Deutschland
ORGANIZER;CN="Dokumentationszentrum Glanzstoff":MAILTO:info@glanzstoff-doku.de
END:VEVENT
BEGIN:VEVENT
DTSTART;TZID=Europe/Berlin:20230421T170000
DTEND;TZID=Europe/Berlin:20230421T190000
DTSTAMP:20260423T230420
CREATED:20230402T170435Z
LAST-MODIFIED:20230505T195340Z
UID:10000006-1682096400-1682103600@glanzstoff-doku.de
SUMMARY:Angemeldete Gruppenführung
DESCRIPTION:
URL:https://glanzstoff-doku.de/event/angemeldete-fuehrung/
LOCATION:Dokumentationszentrum Glanzstoff\, Boos-Fremery-Straße 62\, Tor 1\, Heinsberg\, Nordrhein-Westfalen\, 52525\, Deutschland
ORGANIZER;CN="Dokumentationszentrum Glanzstoff":MAILTO:info@glanzstoff-doku.de
END:VEVENT
BEGIN:VEVENT
DTSTART;TZID=Europe/Berlin:20230421T150000
DTEND;TZID=Europe/Berlin:20230421T170000
DTSTAMP:20260423T230420
CREATED:20230402T173007Z
LAST-MODIFIED:20230505T195402Z
UID:10000008-1682089200-1682096400@glanzstoff-doku.de
SUMMARY:Angemeldete Gruppenführung
DESCRIPTION:
URL:https://glanzstoff-doku.de/event/angemeldete-fuehrung-3/
LOCATION:Dokumentationszentrum Glanzstoff\, Boos-Fremery-Straße 62\, Tor 1\, Heinsberg\, Nordrhein-Westfalen\, 52525\, Deutschland
ORGANIZER;CN="Dokumentationszentrum Glanzstoff":MAILTO:info@glanzstoff-doku.de
END:VEVENT
BEGIN:VEVENT
DTSTART;TZID=Europe/Berlin:20230420T140000
DTEND;TZID=Europe/Berlin:20230420T153000
DTSTAMP:20260423T230420
CREATED:20230420T101723Z
LAST-MODIFIED:20230505T195428Z
UID:10000011-1681999200-1682004600@glanzstoff-doku.de
SUMMARY:Angemeldete Gruppenführung
DESCRIPTION:
URL:https://glanzstoff-doku.de/event/angemeldete-fuehrung-5/
LOCATION:Dokumentationszentrum Glanzstoff\, Boos-Fremery-Straße 62\, Tor 1\, Heinsberg\, Nordrhein-Westfalen\, 52525\, Deutschland
ORGANIZER;CN="Dokumentationszentrum Glanzstoff":MAILTO:info@glanzstoff-doku.de
END:VEVENT
BEGIN:VEVENT
DTSTART;VALUE=DATE:20230409
DTEND;VALUE=DATE:20230410
DTSTAMP:20260423T230420
CREATED:20230331T174650Z
LAST-MODIFIED:20230402T173653Z
UID:10000004-1680998400-1681084799@glanzstoff-doku.de
SUMMARY:Geschlossen
DESCRIPTION:Ostersonntag ist das Dokumentationszentrum geschlossen.
URL:https://glanzstoff-doku.de/event/dokumentationszentrum-geschlossen-2/
LOCATION:Dokumentationszentrum Glanzstoff\, Boos-Fremery-Straße 62\, Tor 1\, Heinsberg\, Nordrhein-Westfalen\, 52525\, Deutschland
ORGANIZER;CN="Dokumentationszentrum Glanzstoff":MAILTO:info@glanzstoff-doku.de
END:VEVENT
END:VCALENDAR